BEGIN:VCALENDAR
VERSION:2.0
PRODID:-//calendar/web//NONSGML v1.0//EN
BEGIN:VEVENT
UID:2230
DTSTAMP:20230205T210000Z
DTSTART:20230205T210000Z
DTEND:20230212T205900Z
SUMMARY:Hukuk Fakültesi - Yıllık - Dönem Tatili
DESCRIPTION:
END:VEVENT
END:VCALENDAR
