BEGIN:VCALENDAR
VERSION:2.0
PRODID:-//calendar/web//NONSGML v1.0//EN
BEGIN:VEVENT
UID:2231
DTSTAMP:20230205T210000Z
DTSTART:20230205T210000Z
DTEND:20230224T205900Z
SUMMARY:Öğrenci Katkı Payının 2.Taksitinin Yatırılması
DESCRIPTION:
END:VEVENT
END:VCALENDAR
