BEGIN:VCALENDAR
VERSION:2.0
PRODID:-//calendar/web//NONSGML v1.0//EN
BEGIN:VEVENT
UID:2233
DTSTAMP:20230601T210000Z
DTSTART:20230601T210000Z
DTEND:20230602T205900Z
SUMMARY:Hukuk Fakültesi- Yıllık Yıl Sonu Sınavı Tarihlerinin İlanı
DESCRIPTION:
END:VEVENT
END:VCALENDAR
