BEGIN:VCALENDAR
VERSION:2.0
PRODID:-//calendar/web//NONSGML v1.0//EN
BEGIN:VEVENT
UID:2234
DTSTAMP:20220913T210000Z
DTSTART:20220913T210000Z
DTEND:20220914T205900Z
SUMMARY:Güz Yarıyılı Derslerin (öğretim elemanı, yeri, gün ve saati) belirlenmesi ve ilanı
DESCRIPTION:
END:VEVENT
END:VCALENDAR
