BEGIN:VCALENDAR
VERSION:2.0
PRODID:-//calendar/web//NONSGML v1.0//EN
BEGIN:VEVENT
UID:2235
DTSTAMP:20221016T210000Z
DTSTART:20221016T210000Z
DTEND:20221021T205900Z
SUMMARY:Güz Yarıyılı Ders Ekleme-Çıkarma (Kayıt Yenileme Döneminde Ders Seçmeyen Öğrenci Ders Ekleme -Çıkarma Yapamaz)
DESCRIPTION:
END:VEVENT
END:VCALENDAR
