BEGIN:VCALENDAR
VERSION:2.0
PRODID:-//calendar/web//NONSGML v1.0//EN
BEGIN:VEVENT
UID:2236
DTSTAMP:20221023T210000Z
DTSTART:20221023T210000Z
DTEND:20221024T205900Z
SUMMARY:Birim Yönetim Kuruluna Öğrencilerin Güz Yarıyılı Mazeretli Kayıt Yenileme Dilekçesi Vermeleri için Son Gün
DESCRIPTION:
END:VEVENT
END:VCALENDAR
