BEGIN:VCALENDAR
VERSION:2.0
PRODID:-//calendar/web//NONSGML v1.0//EN
BEGIN:VEVENT
UID:2237
DTSTAMP:20221030T210000Z
DTSTART:20221030T210000Z
DTEND:20221031T205900Z
SUMMARY:Birim Yönetim Kurulunun Güz Yarıyılı Mazeretli Kayıt Yenileme Dilekçelerini Değerlendirmeleri için Son Gün
DESCRIPTION:
END:VEVENT
END:VCALENDAR
