BEGIN:VCALENDAR
VERSION:2.0
PRODID:-//calendar/web//NONSGML v1.0//EN
BEGIN:VEVENT
UID:2238
DTSTAMP:20221106T210000Z
DTSTART:20221106T210000Z
DTEND:20221107T205900Z
SUMMARY:Güz Yarıyılı Ara Sınav Tarihlerinin İlanı
DESCRIPTION:
END:VEVENT
END:VCALENDAR
