BEGIN:VCALENDAR
VERSION:2.0
PRODID:-//calendar/web//NONSGML v1.0//EN
BEGIN:VEVENT
UID:2239
DTSTAMP:20221119T210000Z
DTSTART:20221119T210000Z
DTEND:20221202T205900Z
SUMMARY:Güz Yarıyılı Ara Sınav Mazeret Sınavı Başvurusu
DESCRIPTION:
END:VEVENT
END:VCALENDAR
