BEGIN:VCALENDAR
VERSION:2.0
PRODID:-//calendar/web//NONSGML v1.0//EN
BEGIN:VEVENT
UID:2240
DTSTAMP:20221206T210000Z
DTSTART:20221206T210000Z
DTEND:20221207T205900Z
SUMMARY:Güz Yarıyılı Ara Sınav Not Giriş İşlemlerinin Tamamlaması Kesin Kayıt ve İlanı
DESCRIPTION:
END:VEVENT
END:VCALENDAR
