BEGIN:VCALENDAR
VERSION:2.0
PRODID:-//calendar/web//NONSGML v1.0//EN
BEGIN:VEVENT
UID:2241
DTSTAMP:20221211T210000Z
DTSTART:20221211T210000Z
DTEND:20221218T205900Z
SUMMARY:Güz Yarıyılı Ara Sınav Mazeret Sınavı Tarihleri
DESCRIPTION:
END:VEVENT
END:VCALENDAR
