BEGIN:VCALENDAR
VERSION:2.0
PRODID:-//calendar/web//NONSGML v1.0//EN
BEGIN:VEVENT
UID:2242
DTSTAMP:20221223T210000Z
DTSTART:20221223T210000Z
DTEND:20221224T205900Z
SUMMARY:Güz Yarıyılı Ara Sınav Mazeret Sınavı Not Giriş İşlemlerinin Tamamlaması Kesin Kayıt ve İlanı
DESCRIPTION:
END:VEVENT
END:VCALENDAR
