BEGIN:VCALENDAR
VERSION:2.0
PRODID:-//calendar/web//NONSGML v1.0//EN
BEGIN:VEVENT
UID:2245
DTSTAMP:20230214T210000Z
DTSTART:20230214T210000Z
DTEND:20230215T205900Z
SUMMARY:Güz Yarıyılı Tek Ders Sınavı Tarihleri(Hukuk Fakültesi Öğrencileri Hariç)
DESCRIPTION:
END:VEVENT
END:VCALENDAR
