BEGIN:VCALENDAR
VERSION:2.0
PRODID:-//calendar/web//NONSGML v1.0//EN
BEGIN:VEVENT
UID:2249
DTSTAMP:20221002T210000Z
DTSTART:20221002T210000Z
DTEND:20230117T205900Z
SUMMARY:Bahar Yarıyılı Özel Öğrenci Başvurusu
DESCRIPTION:
END:VEVENT
END:VCALENDAR
