BEGIN:VCALENDAR
VERSION:2.0
PRODID:-//calendar/web//NONSGML v1.0//EN
BEGIN:VEVENT
UID:2250
DTSTAMP:20230122T210000Z
DTSTART:20230122T210000Z
DTEND:20230224T205900Z
SUMMARY:Bahar Yarıyılı Öğrenci Katkı Payının Yatırılması
DESCRIPTION:
END:VEVENT
END:VCALENDAR
