BEGIN:VCALENDAR
VERSION:2.0
PRODID:-//calendar/web//NONSGML v1.0//EN
BEGIN:VEVENT
UID:2252
DTSTAMP:20220927T210000Z
DTSTART:20220927T210000Z
DTEND:20220928T205900Z
SUMMARY:Güz Yarıyılı Yönelme Grubu Seçimi için Son Gün
DESCRIPTION:
END:VEVENT
END:VCALENDAR
