BEGIN:VCALENDAR
VERSION:2.0
PRODID:-//calendar/web//NONSGML v1.0//EN
BEGIN:VEVENT
UID:2253
DTSTAMP:20230207T210000Z
DTSTART:20230207T210000Z
DTEND:20230208T205900Z
SUMMARY:Bahar Yarıyılı Yönelme Grubu Seçimi için Son Gün
DESCRIPTION:
END:VEVENT
END:VCALENDAR
