BEGIN:VCALENDAR
VERSION:2.0
PRODID:-//calendar/web//NONSGML v1.0//EN
BEGIN:VEVENT
UID:2255
DTSTAMP:20230305T210000Z
DTSTART:20230305T210000Z
DTEND:20230306T205900Z
SUMMARY:Birim Yönetim Kuruluna Öğrencilerin Bahar Yarıyılı Mazeretli Kayıt Yenileme Dilekçesi Vermeleri için Son Gün
DESCRIPTION:
END:VEVENT
END:VCALENDAR
