BEGIN:VCALENDAR
VERSION:2.0
PRODID:-//calendar/web//NONSGML v1.0//EN
BEGIN:VEVENT
UID:2256
DTSTAMP:20230309T210000Z
DTSTART:20230309T210000Z
DTEND:20230310T205900Z
SUMMARY:Birim Yönetim Kurulunun Bahar Yarıyılı Mazeretli Kayıt Yenileme Dilekçelerini Değerlendirmeleri için Son Gün
DESCRIPTION:
END:VEVENT
END:VCALENDAR
