BEGIN:VCALENDAR
VERSION:2.0
PRODID:-//calendar/web//NONSGML v1.0//EN
BEGIN:VEVENT
UID:2257
DTSTAMP:20230420T210000Z
DTSTART:20230420T210000Z
DTEND:20230421T205900Z
SUMMARY:Bahar Yarıyılı Ara Sınav Tarihlerinin İlanı
DESCRIPTION:
END:VEVENT
END:VCALENDAR
