BEGIN:VCALENDAR
VERSION:2.0
PRODID:-//calendar/web//NONSGML v1.0//EN
BEGIN:VEVENT
UID:2258
DTSTAMP:20230514T210000Z
DTSTART:20230514T210000Z
DTEND:20230515T205900Z
SUMMARY:Bahar Yarıyılı Ara Sınav Not Giriş İşlemlerinin Tamamlanması Kesin Kayıt ve İlanı
DESCRIPTION:
END:VEVENT
END:VCALENDAR
