BEGIN:VCALENDAR
VERSION:2.0
PRODID:-//calendar/web//NONSGML v1.0//EN
BEGIN:VEVENT
UID:2260
DTSTAMP:20230531T210000Z
DTSTART:20230531T210000Z
DTEND:20230604T205900Z
SUMMARY:Bahar Yarıyılı Ara Sınav Mazeret Sınavı Dönemi
DESCRIPTION:
END:VEVENT
END:VCALENDAR
