BEGIN:VCALENDAR
VERSION:2.0
PRODID:-//calendar/web//NONSGML v1.0//EN
BEGIN:VEVENT
UID:2261
DTSTAMP:20230607T210000Z
DTSTART:20230607T210000Z
DTEND:20230608T205900Z
SUMMARY:Bahar Yarıyılı Ara Sınav Mazeret Sınavı Not Giriş İşlemlerinin Tamamlanması Kesin Kayıt ve İlanı
DESCRIPTION:
END:VEVENT
END:VCALENDAR
