BEGIN:VCALENDAR
VERSION:2.0
PRODID:-//calendar/web//NONSGML v1.0//EN
BEGIN:VEVENT
UID:2262
DTSTAMP:20230702T210000Z
DTSTART:20230702T210000Z
DTEND:20230709T205900Z
SUMMARY:Bahar Yarıyılı Bütünleme Sınavı Dönemi
DESCRIPTION:
END:VEVENT
END:VCALENDAR
