BEGIN:VCALENDAR
VERSION:2.0
PRODID:-//calendar/web//NONSGML v1.0//EN
BEGIN:VEVENT
UID:2264
DTSTAMP:20230711T210000Z
DTSTART:20230711T210000Z
DTEND:20230712T205900Z
SUMMARY:Bahar Yarıyılı Tek Ders Sınavı (Hukuk Fakültesi Öğrencileri Hariç)
DESCRIPTION:
END:VEVENT
END:VCALENDAR
