BEGIN:VCALENDAR
VERSION:2.0
PRODID:-//calendar/web//NONSGML v1.0//EN
BEGIN:VEVENT
UID:2266
DTSTAMP:20230711T210000Z
DTSTART:20230711T210000Z
DTEND:20230714T205900Z
SUMMARY:Bahar Yarıyılı Hukuk Fakültesi-Yarıyıllık-Üç Ders Sınavı
DESCRIPTION:
END:VEVENT
END:VCALENDAR
