BEGIN:VCALENDAR
VERSION:2.0
PRODID:-//calendar/web//NONSGML v1.0//EN
BEGIN:VEVENT
UID:2267
DTSTAMP:20230212T210000Z
DTSTART:20230212T210000Z
DTEND:20230217T205900Z
SUMMARY:44.Madde Kapsamında Güz Dönemi I. Sınav Hakkı
DESCRIPTION:
END:VEVENT
END:VCALENDAR
