BEGIN:VCALENDAR
VERSION:2.0
PRODID:-//calendar/web//NONSGML v1.0//EN
BEGIN:VEVENT
UID:2268
DTSTAMP:20230226T210000Z
DTSTART:20230226T210000Z
DTEND:20230303T205900Z
SUMMARY:44.Madde Kapsamında Güz Dönemi II. Sınav Hakkı
DESCRIPTION:
END:VEVENT
END:VCALENDAR
