BEGIN:VCALENDAR
VERSION:2.0
PRODID:-//calendar/web//NONSGML v1.0//EN
BEGIN:VEVENT
UID:2270
DTSTAMP:20230109T210000Z
DTSTART:20230109T210000Z
DTEND:20230205T205900Z
SUMMARY:Lisansüstü Programlara Onay İşlemleri
DESCRIPTION:
END:VEVENT
END:VCALENDAR
