BEGIN:VCALENDAR
VERSION:2.0
PRODID:-//calendar/web//NONSGML v1.0//EN
BEGIN:VEVENT
UID:2271
DTSTAMP:20230219T210000Z
DTSTART:20230219T210000Z
DTEND:20230222T205900Z
SUMMARY:Lisansüstü Programlar Mesleki Bilgi Değerlendirmesi ve Mülakat
DESCRIPTION:
END:VEVENT
END:VCALENDAR
