BEGIN:VCALENDAR
VERSION:2.0
PRODID:-//calendar/web//NONSGML v1.0//EN
BEGIN:VEVENT
UID:2272
DTSTAMP:20230717T210000Z
DTSTART:20230717T210000Z
DTEND:20230718T205900Z
SUMMARY:Bahar Yarıyılı Sonunda Mezun Olan Öğrencilerin Mezuniyet İşlemlerinin Tamamlanması için Son Gün
DESCRIPTION:
END:VEVENT
END:VCALENDAR
