BEGIN:VCALENDAR
VERSION:2.0
PRODID:-//calendar/web//NONSGML v1.0//EN
BEGIN:VEVENT
UID:2273
DTSTAMP:20230223T210000Z
DTSTART:20230223T210000Z
DTEND:20230224T205900Z
SUMMARY:Lisansüstü Programlar Sonuçların İlanı
DESCRIPTION:
END:VEVENT
END:VCALENDAR
