BEGIN:VCALENDAR
VERSION:2.0
PRODID:-//calendar/web//NONSGML v1.0//EN
BEGIN:VEVENT
UID:2274
DTSTAMP:20230226T210000Z
DTSTART:20230226T210000Z
DTEND:20230228T205900Z
SUMMARY:Lisansüstü Programlar Kesin Kayıt
DESCRIPTION:
END:VEVENT
END:VCALENDAR
