BEGIN:VCALENDAR
VERSION:2.0
PRODID:-//calendar/web//NONSGML v1.0//EN
BEGIN:VEVENT
UID:2275
DTSTAMP:20230212T210000Z
DTSTART:20230212T210000Z
DTEND:20230213T205900Z
SUMMARY:Lisansüstü Bahar Dönemi Uzmanlık Alan Derslerine Ait Kararların Rektörlüğe Gönderilmesi İçin Son Gün
DESCRIPTION:
END:VEVENT
END:VCALENDAR
