BEGIN:VCALENDAR
VERSION:2.0
PRODID:-//calendar/web//NONSGML v1.0//EN
BEGIN:VEVENT
UID:2276
DTSTAMP:20230301T210000Z
DTSTART:20230301T210000Z
DTEND:20230303T205900Z
SUMMARY:Lisansüstü Programlar Yedeklerden Ön Kayıt Dilekçesi Alınması
DESCRIPTION:
END:VEVENT
END:VCALENDAR
