BEGIN:VCALENDAR
VERSION:2.0
PRODID:-//calendar/web//NONSGML v1.0//EN
BEGIN:VEVENT
UID:2277
DTSTAMP:20230305T210000Z
DTSTART:20230305T210000Z
DTEND:20230306T205900Z
SUMMARY:Lisansüstü Programlar Yedek-Kesin Kayıt Hakkı Kazananların İlanı
DESCRIPTION:
END:VEVENT
END:VCALENDAR
