BEGIN:VCALENDAR
VERSION:2.0
PRODID:-//calendar/web//NONSGML v1.0//EN
BEGIN:VEVENT
UID:2278
DTSTAMP:20230306T210000Z
DTSTART:20230306T210000Z
DTEND:20230308T205900Z
SUMMARY:Lisansüstü Programlar Yedeklerden Ön Kayıt Dilekçesi Alınan Adayların Kesin Kayıtları
DESCRIPTION:
END:VEVENT
END:VCALENDAR
