BEGIN:VCALENDAR
VERSION:2.0
PRODID:-//calendar/web//NONSGML v1.0//EN
BEGIN:VEVENT
UID:2279
DTSTAMP:20230116T210000Z
DTSTART:20230116T210000Z
DTEND:20230119T205900Z
SUMMARY:Bahar Yarıyılı Önlisans Kurumlararası Yatay Geçiş Başvuru
DESCRIPTION:
END:VEVENT
END:VCALENDAR
