BEGIN:VCALENDAR
VERSION:2.0
PRODID:-//calendar/web//NONSGML v1.0//EN
BEGIN:VEVENT
UID:2280
DTSTAMP:20230119T210000Z
DTSTART:20230119T210000Z
DTEND:20230120T205900Z
SUMMARY:Bahar Yarıyılı Önlisans Kurumlararası Yatay Geçiş Başvuruları İçin Yabancı Dil Sınavı
DESCRIPTION:
END:VEVENT
END:VCALENDAR
