BEGIN:VCALENDAR
VERSION:2.0
PRODID:-//calendar/web//NONSGML v1.0//EN
BEGIN:VEVENT
UID:2281
DTSTAMP:20230122T210000Z
DTSTART:20230122T210000Z
DTEND:20230123T205900Z
SUMMARY:Bahar Yarıyılı Önlisans Kurumlararası Yatay Geçiş Başvuruları İçin Yabancı Dil Sınav Sonuçlarının İlanı
DESCRIPTION:
END:VEVENT
END:VCALENDAR
