BEGIN:VCALENDAR
VERSION:2.0
PRODID:-//calendar/web//NONSGML v1.0//EN
BEGIN:VEVENT
UID:2282
DTSTAMP:20230123T210000Z
DTSTART:20230123T210000Z
DTEND:20230124T205900Z
SUMMARY:Bahar Yarıyılı Önlisans Kurumlararası Yatay Geçiş Başvuruları için Yabancı Dil Sınav Sonuçlarına İtiraz Süresi
DESCRIPTION:
END:VEVENT
END:VCALENDAR
