BEGIN:VCALENDAR
VERSION:2.0
PRODID:-//calendar/web//NONSGML v1.0//EN
BEGIN:VEVENT
UID:2283
DTSTAMP:20230129T210000Z
DTSTART:20230129T210000Z
DTEND:20230130T205900Z
SUMMARY:Bahar Yarıyılı Önlisans Kurumlararası Yatay Geçiş Sonuçlarının Rektörlüğe Gönderilmesi İçin Son Gün
DESCRIPTION:
END:VEVENT
END:VCALENDAR
