BEGIN:VCALENDAR
VERSION:2.0
PRODID:-//calendar/web//NONSGML v1.0//EN
BEGIN:VEVENT
UID:2287
DTSTAMP:20230208T210000Z
DTSTART:20230208T210000Z
DTEND:20230209T205900Z
SUMMARY:Bahar Yarıyılı Önlisans Kurumlararası Yatay Geçiş Yedek Kayıt İlanı
DESCRIPTION:
END:VEVENT
END:VCALENDAR
