BEGIN:VCALENDAR
VERSION:2.0
PRODID:-//calendar/web//NONSGML v1.0//EN
BEGIN:VEVENT
UID:2288
DTSTAMP:20230209T210000Z
DTSTART:20230209T210000Z
DTEND:20230213T205900Z
SUMMARY:Bahar Yarıyılı Önlisans Kurumlararası Yatay Geçiş Yedek Kayıtları
DESCRIPTION:
END:VEVENT
END:VCALENDAR
