BEGIN:VCALENDAR
VERSION:2.0
PRODID:-//calendar/web//NONSGML v1.0//EN
BEGIN:VEVENT
UID:2289
DTSTAMP:20221202T210000Z
DTSTART:20221202T210000Z
DTEND:20221204T205900Z
SUMMARY:Fen Bilimleri Enstitüsü İş Güvenliği Uzaktan Eğitim Güz Yarıyılı Yarıyıl Sınavı
DESCRIPTION:
END:VEVENT
END:VCALENDAR
