BEGIN:VCALENDAR
VERSION:2.0
PRODID:-//calendar/web//NONSGML v1.0//EN
BEGIN:VEVENT
UID:2290
DTSTAMP:20221209T210000Z
DTSTART:20221209T210000Z
DTEND:20221211T205900Z
SUMMARY:Fen Bilimleri Enstitüsü Mühendislik Yönetimi Uzaktan Eğitim Güz Yarıyılı Yarıyıl Sınavı
DESCRIPTION:
END:VEVENT
END:VCALENDAR
