BEGIN:VCALENDAR
VERSION:2.0
PRODID:-//calendar/web//NONSGML v1.0//EN
BEGIN:VEVENT
UID:2293
DTSTAMP:20230212T210000Z
DTSTART:20230212T210000Z
DTEND:20230213T205900Z
SUMMARY:Tezli-Tezsiz Yüksek Lisans Programları Arası Geçiş Başvuruları Sonuçların İlanı
DESCRIPTION:
END:VEVENT
END:VCALENDAR
