BEGIN:VCALENDAR
VERSION:2.0
PRODID:-//calendar/web//NONSGML v1.0//EN
BEGIN:VEVENT
UID:2295
DTSTAMP:20230126T180000Z
DTSTART:20230126T180000Z
DTEND:20230126T205900Z
SUMMARY:ATA1020 Atatürk İlkeleri ve İnkılap Tarihi Yarıyıl Ara Sınavı
DESCRIPTION:21:00
END:VEVENT
END:VCALENDAR
