BEGIN:VCALENDAR
VERSION:2.0
PRODID:-//calendar/web//NONSGML v1.0//EN
BEGIN:VEVENT
UID:2298
DTSTAMP:20230125T180000Z
DTSTART:20230125T180000Z
DTEND:20230125T205900Z
SUMMARY:TRD1020 Türk Dili Yarıyıl Ara Sınavı
DESCRIPTION:21:00
END:VEVENT
END:VCALENDAR
