BEGIN:VCALENDAR
VERSION:2.0
PRODID:-//calendar/web//NONSGML v1.0//EN
BEGIN:VEVENT
UID:2300
DTSTAMP:20230127T180000Z
DTSTART:20230127T180000Z
DTEND:20230127T205900Z
SUMMARY: YDZI1020 İngilizce Yarıyıl Ara Sınavı
DESCRIPTION:21:00
END:VEVENT
END:VCALENDAR
